BEGIN:VCALENDAR
VERSION:2.0
METHOD:PUBLISH
BEGIN:VEVENT
DTSTART:20200309T090000
DTEND:20200309T092000
LOCATION:1/10-12 Pemell Street Wyoming, nsw 2250
TRANSP: OPAQUE
SEQUENCE:0
UID:
DTSTAMP:20200301T093022Z
SUMMARY:Home Open - UNDERGOING A MINI MAKEOVER AVAILABLE SOON
DESCRIPTION:Available soon - This immaculate 3 bedroom townhouse is being freshly painted throughout, having brand new flooring and blinds installed and will be ready for new tenants on the 14th March.

Features include:

*Three decent size bedrooms all with brand new carpet, ceiling fans and air conditioners which are perfect for those hot Summer nights.

*Ensuite in the main bedroom and large walk in robe plus access to your own balcony. Built in robes in bedroom 2 & 3. 
 
*Combined lounge, dining area which opens up to a low maintenance courtyard.
 
*Modern Kitchen with ample cupboards space and tiled flooring, stainless steel oven & dishwasher plus ceramic electric cooktop.
 
*Large laundry with exterior access and 3rd toilet. 
 
*Single Remote Garage with Internal access and storage space.
 
*Very close to fast food restaurants, local shopping centers, public transport and several schools & sporting grounds.

This property will be available for viewing once painting and flooring have been installed, register your interest today!
PRIORITY:1
CLASS:PUBLIC
BEGIN:VALARM
TRIGGER:-PT10080M
ACTION:DISPLAY
DESCRIPTION:Reminder
END:VALARM
END:VEVENT
END:VCALENDAR
